BEGIN:VCALENDAR
VERSION:2.0
PRODID:-//Plone.org//NONSGML plone.app.event//EN
X-WR-TIMEZONE:US/Central
BEGIN:VEVENT
SUMMARY:Post Office field trip--Farber Library is Cancelled
DTSTART;TZID=US/Central:20240716T121500
DTEND;TZID=US/Central:20240716T130000
DTSTAMP:20260420T163940Z
UID:08f1a1c1972e4639acf9e0a85fbaae84@saas_stack_varnish:6080
CONTACT:Brenda\, 573-249-2012
CREATED:20240618T195442Z
DESCRIPTION:Post Office field trip for July 16th has been cancelled.
LAST-MODIFIED:20240711T193942Z
LOCATION:Farber Branch Library
URL:https://www.mexico-audrain.lib.mo.us/post-office-field-trip-farber-lib
 rary
END:VEVENT
BEGIN:VTIMEZONE
TZID:US/Central
X-LIC-LOCATION:US/Central
BEGIN:DAYLIGHT
DTSTART:20240310T030000
TZNAME:CDT
TZOFFSETFROM:-0600
TZOFFSETTO:-0500
END:DAYLIGHT
END:VTIMEZONE
END:VCALENDAR
