BEGIN:VCALENDAR
VERSION:2.0
PRODID:-//Plone.org//NONSGML plone.app.event//EN
X-WR-TIMEZONE:US/Central
BEGIN:VEVENT
SUMMARY:Vandalia Summer Reading
DTSTART;TZID=US/Central:20240603T090000
DTSTAMP:20260420T201143Z
UID:9f8fa5c29022439e81e9f13f7d40fef4@saas_stack_varnish:6080
CONTACT:Crystal\, 573-594-6600
CREATED:20240603T204139Z
DESCRIPTION:Registration for "Adventure Begins At Your Library" began\, Sa
 turday\, June 1st for all ages.
LAST-MODIFIED:20240603T213645Z
LOCATION:Vandalia Branch Library
URL:https://www.mexico-audrain.lib.mo.us/calendar-news/events/vandalia-sum
 mer-reading
END:VEVENT
BEGIN:VTIMEZONE
TZID:US/Central
X-LIC-LOCATION:US/Central
BEGIN:DAYLIGHT
DTSTART:20240310T030000
TZNAME:CDT
TZOFFSETFROM:-0600
TZOFFSETTO:-0500
END:DAYLIGHT
END:VTIMEZONE
END:VCALENDAR
