BEGIN:VCALENDAR
VERSION:2.0
PRODID:-//Plone.org//NONSGML plone.app.event//EN
X-WR-TIMEZONE:US/Central
BEGIN:VEVENT
SUMMARY:Twilight Turns Twenty!
DTSTART;TZID=US/Central:20251008T163000
DTEND;TZID=US/Central:20251008T183000
DTSTAMP:20260419T183253Z
UID:dab0bdb3885c47bc9038844fb8052e53@saas_stack_varnish:6080
CONTACT:Kasi Welborn\, 573-581-4939\, kasi.w@mexico-audrain.lib.mo.us\, ht
 tps://www.facebook.com/share/19iBHVMXZ9/
CREATED:20250912T175212Z
DESCRIPTION:Come celebrate the season with us by watching our favorite spa
 rkly vampire in action.
LAST-MODIFIED:20250912T175434Z
LOCATION:Mexico Library Book Sale Room
URL:https://www.mexico-audrain.lib.mo.us/calendar-news/events/twilight-tur
 ns-twenty
END:VEVENT
BEGIN:VTIMEZONE
TZID:US/Central
X-LIC-LOCATION:US/Central
BEGIN:DAYLIGHT
DTSTART:20250309T030000
TZNAME:CDT
TZOFFSETFROM:-0600
TZOFFSETTO:-0500
END:DAYLIGHT
END:VTIMEZONE
END:VCALENDAR
