BEGIN:VCALENDAR
VERSION:2.0
PRODID:-//Plone.org//NONSGML plone.app.event//EN
X-WR-TIMEZONE:US/Central
BEGIN:VEVENT
SUMMARY:Twilight Turns Twenty!
DTSTART;TZID=US/Central:20251022T163000
DTEND;TZID=US/Central:20251022T183000
DTSTAMP:20260419T183304Z
UID:ad1aa5a1f3c6458dac196ebf3cb4eb7e@saas_stack_varnish:6080
CONTACT:Kasi Welborn\, 573-581-4939\, kasi.w@mexico-audrain.lib.mo.us\, ht
 tps://www.facebook.com/share/19iBHVMXZ9/
CREATED:20250912T180513Z
DESCRIPTION:AAAAH MORE VAMPIRES!! WHAT'S BELLA GONNA DO?????
LAST-MODIFIED:20250912T180519Z
LOCATION:Mexico Library Book Sale Room
URL:https://www.mexico-audrain.lib.mo.us/calendar-news/events/twilight-tur
 ns-twenty-2
END:VEVENT
BEGIN:VTIMEZONE
TZID:US/Central
X-LIC-LOCATION:US/Central
BEGIN:DAYLIGHT
DTSTART:20250309T030000
TZNAME:CDT
TZOFFSETFROM:-0600
TZOFFSETTO:-0500
END:DAYLIGHT
END:VTIMEZONE
END:VCALENDAR
