BEGIN:VCALENDAR
VERSION:2.0
PRODID:-//Plone.org//NONSGML plone.app.event//EN
X-WR-TIMEZONE:US/Central
BEGIN:VEVENT
SUMMARY:Things That Go
DTSTART;TZID=US/Central:20240606T100000
DTEND;TZID=US/Central:20240606T110000
DTSTAMP:20260420T200932Z
UID:da72a56dd49e404f96e5c8ed9aa25fd9@saas_stack_varnish:6080
CONTACT:Kim\, 573-492-6254
CREATED:20240531T173303Z
DESCRIPTION:Come and find out about Things that Go!  Program presented by 
 Jean Aulbur
LAST-MODIFIED:20240531T173318Z
LOCATION:Martinsburg Branch Library
URL:https://www.mexico-audrain.lib.mo.us/calendar-news/events/things-that-
 go
END:VEVENT
BEGIN:VTIMEZONE
TZID:US/Central
X-LIC-LOCATION:US/Central
BEGIN:DAYLIGHT
DTSTART:20240310T030000
TZNAME:CDT
TZOFFSETFROM:-0600
TZOFFSETTO:-0500
END:DAYLIGHT
END:VTIMEZONE
END:VCALENDAR
