BEGIN:VCALENDAR
VERSION:2.0
PRODID:-//Plone.org//NONSGML plone.app.event//EN
X-WR-TIMEZONE:US/Central
BEGIN:VEVENT
SUMMARY:Therapy Dogs @ Mexico Library
DTSTART;TZID=US/Central:20240620T153000
DTEND;TZID=US/Central:20240620T163000
DTSTAMP:20260420T184741Z
UID:b6c3aade9ec04e3686a7a81a45ca8068@saas_stack_varnish:6080
CONTACT:Aletha\, 573-581-4940
CREATED:20240604T222024Z
DESCRIPTION:The Therapy Dogs will be at the library!
LAST-MODIFIED:20240604T222104Z
LOCATION:Mexico Headquarters\, Children's Department
URL:https://www.mexico-audrain.lib.mo.us/calendar-news/events/therapy-dogs
 -mexico-library
END:VEVENT
BEGIN:VTIMEZONE
TZID:US/Central
X-LIC-LOCATION:US/Central
BEGIN:DAYLIGHT
DTSTART:20240310T030000
TZNAME:CDT
TZOFFSETFROM:-0600
TZOFFSETTO:-0500
END:DAYLIGHT
END:VTIMEZONE
END:VCALENDAR
