BEGIN:VCALENDAR
VERSION:2.0
PRODID:-//Plone.org//NONSGML plone.app.event//EN
X-WR-TIMEZONE:US/Central
BEGIN:VEVENT
SUMMARY:The Princess Bride
DTSTART;TZID=US/Central:20240626T160000
DTEND;TZID=US/Central:20240626T180000
DTSTAMP:20260420T183013Z
UID:665f70ee3da44f849db9b638fdb4f4e3@saas_stack_varnish:6080
CONTACT:Kasi\, 573-581-4939\, Kasi.w@mexico-audrain.lib.mo.us
CREATED:20240501T153647Z
DESCRIPTION:Teen Summer Reading Movie.\n\nA bedridden boy's grandfather re
 ads him the story of a farmboy-turned-pirate who encounters numerous obsta
 cles\, enemies and allies in his quest to be reunited with his true love.\
 n\nFor Ages 12-18.
LAST-MODIFIED:20240606T150240Z
LOCATION:Llewellyn (Book Sale Room) at Mexico
URL:https://www.mexico-audrain.lib.mo.us/calendar-news/events/the-princess
 -bride
END:VEVENT
BEGIN:VTIMEZONE
TZID:US/Central
X-LIC-LOCATION:US/Central
BEGIN:DAYLIGHT
DTSTART:20240310T030000
TZNAME:CDT
TZOFFSETFROM:-0600
TZOFFSETTO:-0500
END:DAYLIGHT
END:VTIMEZONE
END:VCALENDAR
