BEGIN:VCALENDAR
VERSION:2.0
PRODID:-//Plone.org//NONSGML plone.app.event//EN
X-WR-TIMEZONE:US/Central
BEGIN:VEVENT
SUMMARY:The Adventures of Milo and Otis
DTSTART;TZID=US/Central:20240604T153000
DTEND;TZID=US/Central:20240604T171500
DTSTAMP:20260420T201857Z
UID:03f6863f6f144b76989ceace77522939@saas_stack_varnish:6080
CONTACT:Kasi\, Kasi.w@mexico-audrain.lib.mo.us
CREATED:20240501T151838Z
DESCRIPTION:Teen Summer Reading Movie.\n\nThe adventures of a young cat an
 d a dog as they find themselves accidentally separated and each swept into
  a hazardous trek. \n\nFor ages 12-18.
LAST-MODIFIED:20240501T155016Z
LOCATION:Llewellyn (Book Sale Room)
URL:https://www.mexico-audrain.lib.mo.us/calendar-news/events/the-adventur
 es-of-milo-and-otis
END:VEVENT
BEGIN:VTIMEZONE
TZID:US/Central
X-LIC-LOCATION:US/Central
BEGIN:DAYLIGHT
DTSTART:20240310T030000
TZNAME:CDT
TZOFFSETFROM:-0600
TZOFFSETTO:-0500
END:DAYLIGHT
END:VTIMEZONE
END:VCALENDAR
