BEGIN:VCALENDAR
VERSION:2.0
PRODID:-//Plone.org//NONSGML plone.app.event//EN
X-WR-TIMEZONE:US/Central
BEGIN:VEVENT
SUMMARY:Teen Tuesday!
DTSTART;TZID=US/Central:20260602T153000
DTEND;TZID=US/Central:20260602T170000
DTSTAMP:20260421T125612Z
UID:9d6f0c610ab94f4987d4cb5d4f261b99@saas_stack_varnish:6080
CONTACT:Kasi Welborn\, 5735814939\, kasi.w@mexico-audrain.lib.mo.us
CREATED:20260121T224046Z
DESCRIPTION:Part of 2026 Teen Summer Reading Unearth a Story!
LAST-MODIFIED:20260416T150211Z
LOCATION:Mexico Second Floor
URL:https://www.mexico-audrain.lib.mo.us/calendar-news/events/teen-tuesday
 -1
END:VEVENT
BEGIN:VTIMEZONE
TZID:US/Central
X-LIC-LOCATION:US/Central
BEGIN:DAYLIGHT
DTSTART:20260308T030000
TZNAME:CDT
TZOFFSETFROM:-0600
TZOFFSETTO:-0500
END:DAYLIGHT
END:VTIMEZONE
END:VCALENDAR
