BEGIN:VCALENDAR
VERSION:2.0
PRODID:-//Plone.org//NONSGML plone.app.event//EN
X-WR-TIMEZONE:US/Central
BEGIN:VEVENT
SUMMARY:Teen  Summer Reading Registration Begins
DTSTART;VALUE=DATE:20240520
DTEND;VALUE=DATE:20240521
DTSTAMP:20260421T132033Z
UID:079cfa46d1144137be17d076fa6ea40a@saas_stack_varnish:6080
CONTACT:Kasi\, Kasi.w@mexico-audrain.lib.mo.us
CREATED:20240503T153720Z
DESCRIPTION:Come sign up for our Teen Summer Reading Program! For ages 12-
 18!
LAST-MODIFIED:20240503T153730Z
LOCATION:Mexico Branch
URL:https://www.mexico-audrain.lib.mo.us/calendar-news/events/teen-summer-
 reading-registration-begins
END:VEVENT
END:VCALENDAR
