BEGIN:VCALENDAR
VERSION:2.0
PRODID:-//Plone.org//NONSGML plone.app.event//EN
X-WR-TIMEZONE:US/Central
BEGIN:VEVENT
SUMMARY:Teen Movie Matinee
DTSTART;TZID=US/Central:20250607T093000
DTEND;TZID=US/Central:20250607T120000
DTSTAMP:20260424T180136Z
UID:f3b277913f604b75a9fc1edc076b6ff8@saas_stack_varnish:6080
CONTACT:Kasi Welborn\, 573-581-4939\, kasi.w@mexico-audrain.lib.mo.us
CREATED:20250325T175417Z
DESCRIPTION:Come watch Phantom of the Opera with us!
LAST-MODIFIED:20250527T191631Z
LOCATION:Book Sale Room/Mexico Library
URL:https://www.mexico-audrain.lib.mo.us/calendar-news/events/teen-movie-n
 ight
END:VEVENT
BEGIN:VTIMEZONE
TZID:US/Central
X-LIC-LOCATION:US/Central
BEGIN:DAYLIGHT
DTSTART:20250309T030000
TZNAME:CDT
TZOFFSETFROM:-0600
TZOFFSETTO:-0500
END:DAYLIGHT
END:VTIMEZONE
END:VCALENDAR
