BEGIN:VCALENDAR
VERSION:2.0
PRODID:-//Plone.org//NONSGML plone.app.event//EN
X-WR-TIMEZONE:US/Central
BEGIN:VEVENT
SUMMARY:Teen Movie Night!
DTSTART;TZID=US/Central:20260722T163000
DTEND;TZID=US/Central:20260722T183000
DTSTAMP:20260426T015132Z
UID:e09bd7a558754b95a31d6b9b105e514b@saas_stack_varnish:6080
CONTACT:Kasi Welborn\, 573-581-4939\, Kasi.W@mexico-audrain.lib.mo.us
CREATED:20260416T153150Z
DESCRIPTION:Part of 2026 Teen Summer Reading Unearth a Story!
LAST-MODIFIED:20260416T153157Z
LOCATION:Mexico Library
URL:https://www.mexico-audrain.lib.mo.us/calendar-news/events/teen-movie-n
 ight-9
END:VEVENT
BEGIN:VTIMEZONE
TZID:US/Central
X-LIC-LOCATION:US/Central
BEGIN:DAYLIGHT
DTSTART:20260308T030000
TZNAME:CDT
TZOFFSETFROM:-0600
TZOFFSETTO:-0500
END:DAYLIGHT
END:VTIMEZONE
END:VCALENDAR
