BEGIN:VCALENDAR
VERSION:2.0
PRODID:-//Plone.org//NONSGML plone.app.event//EN
X-WR-TIMEZONE:US/Central
BEGIN:VEVENT
SUMMARY:Teen Movie Night
DTSTART;TZID=US/Central:20250618T173000
DTEND;TZID=US/Central:20250618T193000
DTSTAMP:20260419T165115Z
UID:8183e09542ad4a1bbe3f26fc1e986a5d@saas_stack_varnish:6080
CONTACT:Kasi Welborn\, 573-581-4939\, kasi.w@mexico-audrain.lib.mo.us
CREATED:20250325T180058Z
DESCRIPTION:Come watch School of Rock with us!
LAST-MODIFIED:20250325T182135Z
LOCATION:Book Sale Room/Mexico Library
URL:https://www.mexico-audrain.lib.mo.us/calendar-news/events/teen-movie-n
 ight-2
END:VEVENT
BEGIN:VTIMEZONE
TZID:US/Central
X-LIC-LOCATION:US/Central
BEGIN:DAYLIGHT
DTSTART:20250309T030000
TZNAME:CDT
TZOFFSETFROM:-0600
TZOFFSETTO:-0500
END:DAYLIGHT
END:VTIMEZONE
END:VCALENDAR
