BEGIN:VCALENDAR
VERSION:2.0
PRODID:-//Plone.org//NONSGML plone.app.event//EN
X-WR-TIMEZONE:US/Central
BEGIN:VEVENT
SUMMARY:Spiderman: Homecoming
DTSTART;TZID=US/Central:20240717T150000
DTEND;TZID=US/Central:20240717T170000
DTSTAMP:20260420T165306Z
UID:47ad6ed00bee4860a78b91a3bdb82d53@saas_stack_varnish:6080
CONTACT:Kasi\, 573-581-4939\, Kasi.w@mexico-audrain.lib.mo.us
CREATED:20240501T154424Z
DESCRIPTION:Teen Summer Reading Movie.\n\nPeter Parker balances his life a
 s an ordinary high school student in Queens with his superhero alter-ego S
 pider-Man\, and finds himself on the trail of a new menace prowling the sk
 ies of New York City.\n\nFor Ages 12-18.
LAST-MODIFIED:20240606T150543Z
LOCATION:Llewellyn (Book Sale Room) at Mexico
URL:https://www.mexico-audrain.lib.mo.us/calendar-news/events/spiderman-ho
 mecoming
END:VEVENT
BEGIN:VTIMEZONE
TZID:US/Central
X-LIC-LOCATION:US/Central
BEGIN:DAYLIGHT
DTSTART:20240310T030000
TZNAME:CDT
TZOFFSETFROM:-0600
TZOFFSETTO:-0500
END:DAYLIGHT
END:VTIMEZONE
END:VCALENDAR
