BEGIN:VCALENDAR
VERSION:2.0
PRODID:-//Plone.org//NONSGML plone.app.event//EN
X-WR-TIMEZONE:US/Central
BEGIN:VEVENT
SUMMARY:Speed Date a Book!
DTSTART;TZID=US/Central:20260225T160000
DTEND;TZID=US/Central:20260225T180000
DTSTAMP:20260419T144120Z
UID:0465365c0e1b442b98a5d1b4d16b590c@saas_stack_varnish:6080
CONTACT:Kasi Welborn\, 573-581-4939\, Kasi.w@mexico-audrain.lib.mo.us
CREATED:20260206T192828Z
DESCRIPTION:Speed Date a Book combines the mystery of Blind Date a Book wi
 th Speed Dating! You will be able to sit and read a book for 5 minutes\, t
 hen you will rate the book and move to the next book! Then it will be reve
 aled what you were reading at the end!
LAST-MODIFIED:20260206T192922Z
LOCATION:Mexico Library Lower Level
URL:https://www.mexico-audrain.lib.mo.us/calendar-news/events/speed-date-a
 -book
END:VEVENT
BEGIN:VTIMEZONE
TZID:US/Central
X-LIC-LOCATION:US/Central
BEGIN:STANDARD
DTSTART:20251102T010000
TZNAME:CST
TZOFFSETFROM:-0500
TZOFFSETTO:-0600
END:STANDARD
END:VTIMEZONE
END:VCALENDAR
