BEGIN:VCALENDAR
VERSION:2.0
PRODID:-//Plone.org//NONSGML plone.app.event//EN
X-WR-TIMEZONE:US/Central
BEGIN:VEVENT
SUMMARY:Saturday Morning Messy Crafts at the Farber Library
DTSTART;TZID=US/Central:20251011T093000
DTEND;TZID=US/Central:20251011T103000
DTSTAMP:20260419T184016Z
UID:6571f22a0bfd48058c816b9bb40c09c9@saas_stack_varnish:6080
CONTACT:Brenda\, 573-249-2012
CREATED:20250911T214154Z
DESCRIPTION:Fun art projects for children 2-18 years of age
LAST-MODIFIED:20250911T214524Z
LOCATION:Farber Branch Library\, 113 W. Front St.\, Farber\, MO 63345
URL:https://www.mexico-audrain.lib.mo.us/calendar-news/events/saturday-mor
 ning-messy-crafts-at-the-farber-library
END:VEVENT
BEGIN:VTIMEZONE
TZID:US/Central
X-LIC-LOCATION:US/Central
BEGIN:DAYLIGHT
DTSTART:20250309T030000
TZNAME:CDT
TZOFFSETFROM:-0600
TZOFFSETTO:-0500
END:DAYLIGHT
END:VTIMEZONE
END:VCALENDAR
