BEGIN:VCALENDAR
VERSION:2.0
PRODID:-//Plone.org//NONSGML plone.app.event//EN
X-WR-TIMEZONE:US/Central
BEGIN:VEVENT
SUMMARY:Reptiles at Laddonia with U.S. Army Corp of Engineers
DTSTART;TZID=US/Central:20240718T110000
DTEND;TZID=US/Central:20240718T120000
DTSTAMP:20260420T165913Z
UID:1cc2c9e48d564e049f84cc091ca5f783@saas_stack_varnish:6080
CONTACT:Nicki\, 573-373-2393\, laddoniabranch@mexico-audrain.lib.mo.us
CREATED:20240531T180755Z
LAST-MODIFIED:20240531T182104Z
LOCATION:Laddonia Library - 406 E 2nd St
URL:https://www.mexico-audrain.lib.mo.us/calendar-news/events/reptiles-wit
 h-u-s-army-corp-of-engineers
END:VEVENT
BEGIN:VTIMEZONE
TZID:US/Central
X-LIC-LOCATION:US/Central
BEGIN:DAYLIGHT
DTSTART:20240310T030000
TZNAME:CDT
TZOFFSETFROM:-0600
TZOFFSETTO:-0500
END:DAYLIGHT
END:VTIMEZONE
END:VCALENDAR
