BEGIN:VCALENDAR
VERSION:2.0
PRODID:-//Plone.org//NONSGML plone.app.event//EN
X-WR-TIMEZONE:US/Central
BEGIN:VEVENT
SUMMARY:Reptile Fun At Martinsburg Library
DTSTART;TZID=US/Central:20240718T100000
DTEND;TZID=US/Central:20240718T224500
DTSTAMP:20260420T165547Z
UID:25feefb759784ebc80583ec05a6f4c66@saas_stack_varnish:6080
CONTACT:Kim\, 573-492-6254
CREATED:20240604T205704Z
DESCRIPTION:Army Corps of Engineers will present a program about reptiles.
LAST-MODIFIED:20240604T205848Z
LOCATION:Martinsburg Branch Library
URL:https://www.mexico-audrain.lib.mo.us/calendar-news/events/reptile-fun-
 at-martinsburg-library
END:VEVENT
BEGIN:VTIMEZONE
TZID:US/Central
X-LIC-LOCATION:US/Central
BEGIN:DAYLIGHT
DTSTART:20240310T030000
TZNAME:CDT
TZOFFSETFROM:-0600
TZOFFSETTO:-0500
END:DAYLIGHT
END:VTIMEZONE
END:VCALENDAR
