BEGIN:VCALENDAR
VERSION:2.0
PRODID:-//Plone.org//NONSGML plone.app.event//EN
X-WR-TIMEZONE:US/Central
BEGIN:VEVENT
SUMMARY:Puzzle Mania
DTSTART;TZID=US/Central:20240627T100000
DTEND;TZID=US/Central:20240627T110000
DTSTAMP:20260420T182956Z
UID:e02a5f44c0924d269c4fdcf46c105ead@saas_stack_varnish:6080
CONTACT:Kim\, 573-492-6254
CREATED:20240531T173708Z
DESCRIPTION:What is puzzle mania?  Come and learn with Jean Aulbur.
LAST-MODIFIED:20240531T173723Z
LOCATION:Martinsburg Branch Library
URL:https://www.mexico-audrain.lib.mo.us/calendar-news/events/puzzle-mania
END:VEVENT
BEGIN:VTIMEZONE
TZID:US/Central
X-LIC-LOCATION:US/Central
BEGIN:DAYLIGHT
DTSTART:20240310T030000
TZNAME:CDT
TZOFFSETFROM:-0600
TZOFFSETTO:-0500
END:DAYLIGHT
END:VTIMEZONE
END:VCALENDAR
