BEGIN:VCALENDAR
VERSION:2.0
PRODID:-//Plone.org//NONSGML plone.app.event//EN
X-WR-TIMEZONE:US/Central
BEGIN:VEVENT
SUMMARY:Parking Lot Closure
DTSTART;TZID=US/Central:20240831T070000
DTEND;TZID=US/Central:20240902T120000
DTSTAMP:20260420T165311Z
UID:7c4b42612cac4cf5a1ef34958f049d35@saas_stack_varnish:6080
CREATED:20240830T193924Z
DESCRIPTION:The parking lot is closed for maintenance
LAST-MODIFIED:20240830T194002Z
LOCATION:Mexico Library
URL:https://www.mexico-audrain.lib.mo.us/calendar-news/events/parking-lot-
 closure
END:VEVENT
BEGIN:VTIMEZONE
TZID:US/Central
X-LIC-LOCATION:US/Central
BEGIN:DAYLIGHT
DTSTART:20240310T030000
TZNAME:CDT
TZOFFSETFROM:-0600
TZOFFSETTO:-0500
END:DAYLIGHT
END:VTIMEZONE
END:VCALENDAR
