BEGIN:VCALENDAR
VERSION:2.0
PRODID:-//Plone.org//NONSGML plone.app.event//EN
X-WR-TIMEZONE:US/Central
BEGIN:VEVENT
SUMMARY:Night Owl Book Club
DTSTART;TZID=US/Central:20270119T190000
DTEND;TZID=US/Central:20270119T200000
DTSTAMP:20260423T214256Z
UID:84da5192cd684df18afe2d9f74276715@saas_stack_varnish:6080
CONTACT:Mare Prosso\, 15735814939\, programlibrarian@mexico-audrain.lib.mo
 .us
CREATED:20221122T175406Z
DESCRIPTION:Our quarterly book discussion.
LAST-MODIFIED:20251211T213515Z
LOCATION:Zoom
URL:https://www.mexico-audrain.lib.mo.us/calendar-news/events/night-owl-bo
 ok-club/2027-01-19
END:VEVENT
BEGIN:VTIMEZONE
TZID:US/Central
X-LIC-LOCATION:US/Central
BEGIN:STANDARD
DTSTART:20261101T010000
TZNAME:CST
TZOFFSETFROM:-0500
TZOFFSETTO:-0600
END:STANDARD
END:VTIMEZONE
END:VCALENDAR
