BEGIN:VCALENDAR
VERSION:2.0
PRODID:-//Plone.org//NONSGML plone.app.event//EN
X-WR-TIMEZONE:US/Central
BEGIN:VEVENT
SUMMARY:"Mush with Noggin!"
DTSTART;TZID=US/Central:20240522T190000
DTEND;TZID=US/Central:20240522T200000
DTSTAMP:20260420T201042Z
UID:ef20b9c550974cdc9f48a454934e705e@saas_stack_varnish:6080
CONTACT:Mare Prosso\, (573) 581-4939\, programlibrarian@mexico-audrain.lib
 .mo.us
CREATED:20240502T160859Z
DESCRIPTION:Karen Land and her sled dogs
LAST-MODIFIED:20240502T161019Z
LOCATION:On Zoom
URL:https://www.mexico-audrain.lib.mo.us/calendar-news/events/mush-with-no
 ggin
END:VEVENT
BEGIN:VTIMEZONE
TZID:US/Central
X-LIC-LOCATION:US/Central
BEGIN:DAYLIGHT
DTSTART:20240310T030000
TZNAME:CDT
TZOFFSETFROM:-0600
TZOFFSETTO:-0500
END:DAYLIGHT
END:VTIMEZONE
END:VCALENDAR
