BEGIN:VCALENDAR
VERSION:2.0
PRODID:-//Plone.org//NONSGML plone.app.event//EN
X-WR-TIMEZONE:US/Central
BEGIN:VEVENT
SUMMARY:Missouri Mammals at Laddonia with the Conservation Department
DTSTART;TZID=US/Central:20240711T110000
DTEND;TZID=US/Central:20240711T120000
DTSTAMP:20260420T184402Z
UID:64d9182877604b73a2e8ebc3b3a6579b@saas_stack_varnish:6080
CONTACT:Nicki\, 573-373-2393\, laddoniabranch@mexico-audrain.lib.mo.us
CREATED:20240531T174641Z
LAST-MODIFIED:20240531T181210Z
LOCATION:Laddonia Library - 406 E 2nd St
URL:https://www.mexico-audrain.lib.mo.us/calendar-news/events/missouri-mam
 mals-with-the-conservation-department
END:VEVENT
BEGIN:VTIMEZONE
TZID:US/Central
X-LIC-LOCATION:US/Central
BEGIN:DAYLIGHT
DTSTART:20240310T030000
TZNAME:CDT
TZOFFSETFROM:-0600
TZOFFSETTO:-0500
END:DAYLIGHT
END:VTIMEZONE
END:VCALENDAR
