BEGIN:VCALENDAR
VERSION:2.0
PRODID:-//Plone.org//NONSGML plone.app.event//EN
X-WR-TIMEZONE:US/Central
BEGIN:VEVENT
SUMMARY:Missouri Mammals at Vandalia
DTSTART;TZID=US/Central:20240711T130000
DTEND;TZID=US/Central:20240711T140000
DTSTAMP:20260420T184213Z
UID:958d133e786a428d9e8fdda3bc5ec13b@saas_stack_varnish:6080
CONTACT:Crystal\, 573-594-6600
CREATED:20240603T214404Z
DESCRIPTION:Missouri Department of Conservation presentation on Missouri M
 ammals
LAST-MODIFIED:20240603T214420Z
LOCATION:Vandalia Branch Library
URL:https://www.mexico-audrain.lib.mo.us/calendar-news/events/missouri-mam
 mals-at-vandalia
END:VEVENT
BEGIN:VTIMEZONE
TZID:US/Central
X-LIC-LOCATION:US/Central
BEGIN:DAYLIGHT
DTSTART:20240310T030000
TZNAME:CDT
TZOFFSETFROM:-0600
TZOFFSETTO:-0500
END:DAYLIGHT
END:VTIMEZONE
END:VCALENDAR
