BEGIN:VCALENDAR
VERSION:2.0
PRODID:-//Plone.org//NONSGML plone.app.event//EN
X-WR-TIMEZONE:US/Central
BEGIN:VEVENT
SUMMARY:Mexico Children's Summer Reading 2024
DTSTART;TZID=US/Central:20240603T090000
DTSTAMP:20260420T201415Z
UID:41125f8c466a42289cce9416d1cde057@saas_stack_varnish:6080
CONTACT:Aletha\, 573-581-4940
CREATED:20240603T213256Z
DESCRIPTION:Adventure Begins @ Your Library!
LAST-MODIFIED:20240603T213306Z
LOCATION:Mexico Headquarters
URL:https://www.mexico-audrain.lib.mo.us/calendar-news/events/mexico-child
 rens-summer-reading-2024
END:VEVENT
BEGIN:VTIMEZONE
TZID:US/Central
X-LIC-LOCATION:US/Central
BEGIN:DAYLIGHT
DTSTART:20240310T030000
TZNAME:CDT
TZOFFSETFROM:-0600
TZOFFSETTO:-0500
END:DAYLIGHT
END:VTIMEZONE
END:VCALENDAR
