BEGIN:VCALENDAR
VERSION:2.0
PRODID:-//Plone.org//NONSGML plone.app.event//EN
X-WR-TIMEZONE:US/Central
BEGIN:VEVENT
SUMMARY:Anime Club
DTSTART;TZID=US/Central:20251015T173000
DTEND;TZID=US/Central:20251015T183000
DTSTAMP:20260419T184341Z
UID:914e622c46874d169676330142927164@saas_stack_varnish:6080
CONTACT:Kasi Welborn\, 573-581-4939\, kasi.w@mexico-audrain.lib.mo.us
CREATED:20250912T173026Z
DESCRIPTION:Mexico Library Anime Club
LAST-MODIFIED:20250912T173648Z
LOCATION:Mexico Library Book Sale Room
URL:https://www.mexico-audrain.lib.mo.us/calendar-news/events/mexico-anime
 -club/2025-10-15
END:VEVENT
BEGIN:VTIMEZONE
TZID:US/Central
X-LIC-LOCATION:US/Central
BEGIN:DAYLIGHT
DTSTART:20250309T030000
TZNAME:CDT
TZOFFSETFROM:-0600
TZOFFSETTO:-0500
END:DAYLIGHT
END:VTIMEZONE
END:VCALENDAR
