BEGIN:VCALENDAR
VERSION:2.0
PRODID:-//Plone.org//NONSGML plone.app.event//EN
X-WR-TIMEZONE:US/Central
BEGIN:VEVENT
SUMMARY:Anime Club
DTSTART;TZID=US/Central:20251001T173000
DTEND;TZID=US/Central:20251001T183000
DTSTAMP:20260419T183722Z
UID:550d8c4388054f06893fa7cfcd1df78c@saas_stack_varnish:6080
RRULE:FREQ=MONTHLY;UNTIL=20251231T000000;BYDAY=+1WE
CONTACT:Kasi Welborn\, 573-581-4939\, kasi.w@mexico-audrain.lib.mo.us
CREATED:20250912T173241Z
DESCRIPTION:Mexico Library Anime Club
LAST-MODIFIED:20250912T173621Z
LOCATION:Mexico Library Book Sale Room
URL:https://www.mexico-audrain.lib.mo.us/calendar-news/events/mexico-anime
 -club-1
END:VEVENT
BEGIN:VTIMEZONE
TZID:US/Central
X-LIC-LOCATION:US/Central
BEGIN:DAYLIGHT
DTSTART:20250309T030000
TZNAME:CDT
TZOFFSETFROM:-0600
TZOFFSETTO:-0500
END:DAYLIGHT
END:VTIMEZONE
END:VCALENDAR
