BEGIN:VCALENDAR
VERSION:2.0
PRODID:-//Plone.org//NONSGML plone.app.event//EN
X-WR-TIMEZONE:US/Central
BEGIN:VEVENT
SUMMARY:Magic Show at Laddonia
DTSTART;TZID=US/Central:20240715T093000
DTEND;TZID=US/Central:20240715T103000
DTSTAMP:20260420T183311Z
UID:4f1cbf2b2d094736957e1734a665536b@saas_stack_varnish:6080
CONTACT:Nicki\, 573-373-2393\, laddoniabranch@mexico-audrain.lib.mo.us
CREATED:20240531T182715Z
LAST-MODIFIED:20240531T182808Z
LOCATION:Laddonia Library - 406 E 2nd St
URL:https://www.mexico-audrain.lib.mo.us/calendar-news/events/magic-show-a
 t-laddonia
END:VEVENT
BEGIN:VTIMEZONE
TZID:US/Central
X-LIC-LOCATION:US/Central
BEGIN:DAYLIGHT
DTSTART:20240310T030000
TZNAME:CDT
TZOFFSETFROM:-0600
TZOFFSETTO:-0500
END:DAYLIGHT
END:VTIMEZONE
END:VCALENDAR
