BEGIN:VCALENDAR
VERSION:2.0
PRODID:-//Plone.org//NONSGML plone.app.event//EN
X-WR-TIMEZONE:US/Central
BEGIN:VEVENT
SUMMARY:Magic Fun at Vandalia Library
DTSTART;TZID=US/Central:20240722T133000
DTEND;TZID=US/Central:20240722T143000
DTSTAMP:20260420T164602Z
UID:eef1f57ad1364e7698059531c37d2199@saas_stack_varnish:6080
CONTACT:Crystal\, 573-594-6600
CREATED:20240603T215246Z
DESCRIPTION:Magic Show with Rick Eugene
LAST-MODIFIED:20240603T215339Z
LOCATION:Vandalia Branch Library
URL:https://www.mexico-audrain.lib.mo.us/calendar-news/events/magic-fun-at
 -vandalia-library
END:VEVENT
BEGIN:VTIMEZONE
TZID:US/Central
X-LIC-LOCATION:US/Central
BEGIN:DAYLIGHT
DTSTART:20240310T030000
TZNAME:CDT
TZOFFSETFROM:-0600
TZOFFSETTO:-0500
END:DAYLIGHT
END:VTIMEZONE
END:VCALENDAR
