BEGIN:VCALENDAR
VERSION:2.0
PRODID:-//Plone.org//NONSGML plone.app.event//EN
X-WR-TIMEZONE:US/Central
BEGIN:VEVENT
SUMMARY:Magic Fun at Mexico Library
DTSTART;TZID=US/Central:20240715T113000
DTEND;TZID=US/Central:20240715T121500
DTSTAMP:20260420T182849Z
UID:50a357bcc2644f48b4d89ca45a2f5448@saas_stack_varnish:6080
CONTACT:Aletha\, 573-581-4940
CREATED:20240605T172513Z
DESCRIPTION:Come enjoy a fun magic show.
LAST-MODIFIED:20240711T200753Z
LOCATION:Church of God Holiness--Fellowship Hall
URL:https://www.mexico-audrain.lib.mo.us/calendar-news/events/magic-fun-at
 -mexico-library
END:VEVENT
BEGIN:VTIMEZONE
TZID:US/Central
X-LIC-LOCATION:US/Central
BEGIN:DAYLIGHT
DTSTART:20240310T030000
TZNAME:CDT
TZOFFSETFROM:-0600
TZOFFSETTO:-0500
END:DAYLIGHT
END:VTIMEZONE
END:VCALENDAR
