BEGIN:VCALENDAR
VERSION:2.0
PRODID:-//Plone.org//NONSGML plone.app.event//EN
X-WR-TIMEZONE:US/Central
BEGIN:VEVENT
SUMMARY:Magic Fun at Martinsburg Library
DTSTART;TZID=US/Central:20240722T093000
DTEND;TZID=US/Central:20240722T103000
DTSTAMP:20260420T165420Z
UID:124e2d896bd0477ab5d979b0b45a495a@saas_stack_varnish:6080
CONTACT:Kim\, 573-492-6254
CREATED:20240531T181233Z
DESCRIPTION:Come enjoy a fun magic show with Rick Eugene at your Martinsbu
 rg Branch Library
LAST-MODIFIED:20240531T181317Z
LOCATION:Martinsburg Branch Library
URL:https://www.mexico-audrain.lib.mo.us/calendar-news/events/magic-fun-at
 -martinsburg-library
END:VEVENT
BEGIN:VTIMEZONE
TZID:US/Central
X-LIC-LOCATION:US/Central
BEGIN:DAYLIGHT
DTSTART:20240310T030000
TZNAME:CDT
TZOFFSETFROM:-0600
TZOFFSETTO:-0500
END:DAYLIGHT
END:VTIMEZONE
END:VCALENDAR
