BEGIN:VCALENDAR
VERSION:2.0
PRODID:-//Plone.org//NONSGML plone.app.event//EN
X-WR-TIMEZONE:US/Central
BEGIN:VEVENT
SUMMARY:Learn to Crochet
DTSTART;TZID=US/Central:20230621T180000
DTEND;TZID=US/Central:20230621T193000
DTSTAMP:20260421T081607Z
UID:b4b3db5614ac41949f40b5dc849e602a@saas_stack_varnish:6080
CONTACT:Kasi Welborn\, 573-581-4939\, kasi.w@mexico-audrain.lib.mo.us
CREATED:20230510T150813Z
LAST-MODIFIED:20230510T150901Z
LOCATION:Mexico Library Book Sale Room-Library Basement
URL:https://www.mexico-audrain.lib.mo.us/calendar-news/events/learn-to-cro
 chet
END:VEVENT
BEGIN:VTIMEZONE
TZID:US/Central
X-LIC-LOCATION:US/Central
BEGIN:DAYLIGHT
DTSTART:20230312T030000
TZNAME:CDT
TZOFFSETFROM:-0600
TZOFFSETTO:-0500
END:DAYLIGHT
END:VTIMEZONE
END:VCALENDAR
