BEGIN:VCALENDAR
VERSION:2.0
PRODID:-//Plone.org//NONSGML plone.app.event//EN
X-WR-TIMEZONE:US/Central
BEGIN:VEVENT
SUMMARY:Ladies' Tea
DTSTART;TZID=US/Central:20240622T093000
DTEND;TZID=US/Central:20240622T110000
DTSTAMP:20260420T183142Z
UID:be7f965daef14180af1d5eb236187ce2@saas_stack_varnish:6080
CONTACT:Mare Prosso\, (573) 581-4939\, programlibrarian@mexico-audrain.lib
 .mo.us
CREATED:20240502T165004Z
DESCRIPTION:part of the adult summer reading program
LAST-MODIFIED:20240617T141332Z
LOCATION:Martinsburg Branch\, community room
URL:https://www.mexico-audrain.lib.mo.us/calendar-news/events/ladies-tea-1
END:VEVENT
BEGIN:VTIMEZONE
TZID:US/Central
X-LIC-LOCATION:US/Central
BEGIN:DAYLIGHT
DTSTART:20240310T030000
TZNAME:CDT
TZOFFSETFROM:-0600
TZOFFSETTO:-0500
END:DAYLIGHT
END:VTIMEZONE
END:VCALENDAR
