BEGIN:VCALENDAR
VERSION:2.0
PRODID:-//Plone.org//NONSGML plone.app.event//EN
X-WR-TIMEZONE:US/Central
BEGIN:VEVENT
SUMMARY:Laddonia Summer Reading Program
DTSTART;TZID=US/Central:20240601T090000
DTSTAMP:20260420T200932Z
UID:2ab30acc3db7405a875ba1ee2002902c@saas_stack_varnish:6080
CONTACT:Nicki\, 573-373-2393
CREATED:20240530T203047Z
DESCRIPTION:Registration for Summer Reading at the Ed French Memorial Libr
 ary begins June 1st.  Programs are suitable for all ages
LAST-MODIFIED:20240531T172759Z
LOCATION:Ed French Memorial Library
URL:https://www.mexico-audrain.lib.mo.us/calendar-news/events/laddonia-sum
 mer-reading-program
END:VEVENT
BEGIN:VTIMEZONE
TZID:US/Central
X-LIC-LOCATION:US/Central
BEGIN:DAYLIGHT
DTSTART:20240310T030000
TZNAME:CDT
TZOFFSETFROM:-0600
TZOFFSETTO:-0500
END:DAYLIGHT
END:VTIMEZONE
END:VCALENDAR
