BEGIN:VCALENDAR
VERSION:2.0
PRODID:-//Plone.org//NONSGML plone.app.event//EN
X-WR-TIMEZONE:US/Central
BEGIN:VEVENT
SUMMARY:Laddonia Story Time
DTSTART;TZID=US/Central:20251006T100000
DTEND;TZID=US/Central:20251006T103000
DTSTAMP:20260419T184122Z
UID:3a76ad08b5964d2d90e925a869040057@saas_stack_varnish:6080
CONTACT:Nicki Mitchell-Bartels\, 573-373-2393\, laddoniabranch@mexico-audr
 ain.lib.mo.us
CREATED:20250922T173159Z
DESCRIPTION:Entertaining\, educational stories for children ages 3 to 5.
LAST-MODIFIED:20250922T183948Z
LOCATION:Laddonia Branch Library
URL:https://www.mexico-audrain.lib.mo.us/calendar-news/events/laddonia-sto
 ry-time/2025-10-06
END:VEVENT
BEGIN:VTIMEZONE
TZID:US/Central
X-LIC-LOCATION:US/Central
BEGIN:DAYLIGHT
DTSTART:20250309T030000
TZNAME:CDT
TZOFFSETFROM:-0600
TZOFFSETTO:-0500
END:DAYLIGHT
END:VTIMEZONE
END:VCALENDAR
