BEGIN:VCALENDAR
VERSION:2.0
PRODID:-//Plone.org//NONSGML plone.app.event//EN
X-WR-TIMEZONE:US/Central
BEGIN:VEVENT
SUMMARY:Laddonia Lap Sit Program
DTSTART;TZID=US/Central:20251103T103000
DTEND;TZID=US/Central:20251103T110000
DTSTAMP:20260419T202516Z
UID:503a96fb63824efca91fb3070072d8fb@saas_stack_varnish:6080
CONTACT:Nicki Mitchell-Bartels\, 573-373-2393\, laddoniabranch@mexico-audr
 ain.lib.mo.us
CREATED:20250922T174329Z
DESCRIPTION:Engaging stories and activities for children ages 0 to 2.
LAST-MODIFIED:20250922T185547Z
LOCATION:Laddonia Branch Library
URL:https://www.mexico-audrain.lib.mo.us/calendar-news/events/laddonia-lap
 -sit-program/2025-11-03
END:VEVENT
BEGIN:VTIMEZONE
TZID:US/Central
X-LIC-LOCATION:US/Central
BEGIN:STANDARD
DTSTART:20251102T010000
TZNAME:CST
TZOFFSETFROM:-0500
TZOFFSETTO:-0600
END:STANDARD
END:VTIMEZONE
END:VCALENDAR
