BEGIN:VCALENDAR
VERSION:2.0
PRODID:-//Plone.org//NONSGML plone.app.event//EN
X-WR-TIMEZONE:US/Central
BEGIN:VEVENT
SUMMARY:Kyle Stephan: Graphic Designer/Illustrator Talk
DTSTART;TZID=US/Central:20250530T100000
DTEND;TZID=US/Central:20250530T113000
DTSTAMP:20260424T174746Z
UID:45347785f7d84b829eda7fed0603ab2c@saas_stack_varnish:6080
CONTACT:Kasi Welborn\, 573-581-4939\, kasi.w@mexico-audrain.lib.mo.us
CREATED:20250325T175046Z
DESCRIPTION:Part of our Teen Summer Reading Programming. For ages 12 and u
 p.
LAST-MODIFIED:20250325T181706Z
LOCATION:Book Sale Room/Mexico Branch
URL:https://www.mexico-audrain.lib.mo.us/calendar-news/events/kyle-stephan
 -graphic-designer-illustrator-talk
END:VEVENT
BEGIN:VTIMEZONE
TZID:US/Central
X-LIC-LOCATION:US/Central
BEGIN:DAYLIGHT
DTSTART:20250309T030000
TZNAME:CDT
TZOFFSETFROM:-0600
TZOFFSETTO:-0500
END:DAYLIGHT
END:VTIMEZONE
END:VCALENDAR
