BEGIN:VCALENDAR
VERSION:2.0
PRODID:-//Plone.org//NONSGML plone.app.event//EN
X-WR-TIMEZONE:US/Central
BEGIN:VEVENT
SUMMARY:Kokedama Creation
DTSTART;TZID=US/Central:20260717T153000
DTEND;TZID=US/Central:20260717T170000
DTSTAMP:20260426T015620Z
UID:ba730f4ef6b849ef8c7a3f19ed348de0@saas_stack_varnish:6080
CONTACT:Kasi Welborn\, 573-581-4939\, kasi.w@mexico-audrain.lib.mo.us
CREATED:20260416T152935Z
DESCRIPTION:Part of 2026 Teen Summer Reading Unearth a Story!
LAST-MODIFIED:20260416T152948Z
LOCATION:Mexico Library
URL:https://www.mexico-audrain.lib.mo.us/calendar-news/events/kokedama-cre
 ation
END:VEVENT
BEGIN:VTIMEZONE
TZID:US/Central
X-LIC-LOCATION:US/Central
BEGIN:DAYLIGHT
DTSTART:20260308T030000
TZNAME:CDT
TZOFFSETFROM:-0600
TZOFFSETTO:-0500
END:DAYLIGHT
END:VTIMEZONE
END:VCALENDAR
