BEGIN:VCALENDAR
VERSION:2.0
PRODID:-//Plone.org//NONSGML plone.app.event//EN
X-WR-TIMEZONE:US/Central
BEGIN:VEVENT
SUMMARY:FNAF Tag
DTSTART;TZID=US/Central:20251024T170000
DTEND;TZID=US/Central:20251024T190000
DTSTAMP:20260419T183221Z
UID:ee262c13acef4163b5cfa141ee97c7fd@saas_stack_varnish:6080
CONTACT:Kasi Welborn\, 573-581-4939\, kasi.w@mexico-audrain.lib.mo.us\, ht
 tps://www.facebook.com/share/1C66Fkus3b/
CREATED:20250912T174527Z
DESCRIPTION:Five Nights at Freddy's Themed Pizza Party and Tag Game
LAST-MODIFIED:20250912T174538Z
LOCATION:Mexico Library Book Sale Room
URL:https://www.mexico-audrain.lib.mo.us/calendar-news/events/fnaf-tag
END:VEVENT
BEGIN:VTIMEZONE
TZID:US/Central
X-LIC-LOCATION:US/Central
BEGIN:DAYLIGHT
DTSTART:20250309T030000
TZNAME:CDT
TZOFFSETFROM:-0600
TZOFFSETTO:-0500
END:DAYLIGHT
END:VTIMEZONE
END:VCALENDAR
