BEGIN:VCALENDAR
VERSION:2.0
PRODID:-//Plone.org//NONSGML plone.app.event//EN
X-WR-TIMEZONE:US/Central
BEGIN:VEVENT
SUMMARY:Farber Story Hour
DTSTART;TZID=US/Central:20240122T160000
DTEND;TZID=US/Central:20240122T170000
DTSTAMP:20260420T214822Z
UID:3be32509b90549668c5496f7c5a79752@saas_stack_varnish:6080
RRULE:FREQ=WEEKLY;UNTIL=20240520T000000;BYDAY=MO
EXDATE;TZID=US/Central:20240219T000000,20240226T000000,20240325T000000,202
 40401T000000,20240408T000000,20240415T000000
CONTACT:Brenda Gower\, 573-249-2012\, farberbranch@mexico-audrain.lib.mo.u
 s
CREATED:20231212T192053Z
DESCRIPTION:Brenda will read an interesting story to the group.
LAST-MODIFIED:20240105T161036Z
LOCATION:Farber Branch Library
URL:https://www.mexico-audrain.lib.mo.us/calendar-news/events/farber-story
 -hour
END:VEVENT
BEGIN:VTIMEZONE
TZID:US/Central
X-LIC-LOCATION:US/Central
BEGIN:STANDARD
DTSTART:20231105T010000
TZNAME:CST
TZOFFSETFROM:-0500
TZOFFSETTO:-0600
END:STANDARD
END:VTIMEZONE
END:VCALENDAR
