BEGIN:VCALENDAR
VERSION:2.0
PRODID:-//Plone.org//NONSGML plone.app.event//EN
X-WR-TIMEZONE:US/Central
BEGIN:VEVENT
SUMMARY:Farber Story Hour
DTSTART;TZID=US/Central:20240318T160000
DTEND;TZID=US/Central:20240318T170000
DTSTAMP:20260420T215530Z
UID:3be32509b90549668c5496f7c5a79752@saas_stack_varnish:6080
CONTACT:Brenda Gower\, 573-249-2012\, farberbranch@mexico-audrain.lib.mo.u
 s
CREATED:20231212T192053Z
DESCRIPTION:Brenda will read an interesting story to the group.
LAST-MODIFIED:20240105T161036Z
LOCATION:Farber Branch Library
URL:https://www.mexico-audrain.lib.mo.us/calendar-news/events/farber-story
 -hour/2024-03-18
END:VEVENT
BEGIN:VTIMEZONE
TZID:US/Central
X-LIC-LOCATION:US/Central
BEGIN:DAYLIGHT
DTSTART:20240310T030000
TZNAME:CDT
TZOFFSETFROM:-0600
TZOFFSETTO:-0500
END:DAYLIGHT
END:VTIMEZONE
END:VCALENDAR
