BEGIN:VCALENDAR
VERSION:2.0
PRODID:-//Plone.org//NONSGML plone.app.event//EN
X-WR-TIMEZONE:US/Central
BEGIN:VEVENT
SUMMARY:Color Front Street - Farber - Messy Art Saturdays
DTSTART;TZID=US/Central:20250607T093000
DTEND;TZID=US/Central:20250607T103000
DTSTAMP:20260424T174808Z
UID:8b68e9dc049f48179e970512fc33e0eb@saas_stack_varnish:6080
CONTACT:Brenda Gower\, 573-249-2012\, farberbranch@mexico-audrain.lib.mo.u
 s
CREATED:20250418T140802Z
DESCRIPTION:Pre-enrollment required.\nColor Front Street - We'll be using 
 sidewalk chalk.
LAST-MODIFIED:20250418T161641Z
LOCATION:Farber Branch Library
URL:https://www.mexico-audrain.lib.mo.us/calendar-news/events/farber-messy
 -art-saturdays
END:VEVENT
BEGIN:VTIMEZONE
TZID:US/Central
X-LIC-LOCATION:US/Central
BEGIN:DAYLIGHT
DTSTART:20250309T030000
TZNAME:CDT
TZOFFSETFROM:-0600
TZOFFSETTO:-0500
END:DAYLIGHT
END:VTIMEZONE
END:VCALENDAR
