BEGIN:VCALENDAR
VERSION:2.0
PRODID:-//Plone.org//NONSGML plone.app.event//EN
X-WR-TIMEZONE:US/Central
BEGIN:VEVENT
SUMMARY:Splat Painting - Farber - Messy Art Saturdays
DTSTART;TZID=US/Central:20250628T093000
DTEND;TZID=US/Central:20250628T103000
DTSTAMP:20260419T170634Z
UID:61109df3586044c6aa5d53fbede4c116@saas_stack_varnish:6080
CONTACT:Brenda Gower\, 573-249-2012\, farberbranch@mexico-audrain.lib.mo.u
 s
CREATED:20250418T141412Z
DESCRIPTION:Pre-enrollment required. \nSplat painting - create a painting 
 with cotton balls.
LAST-MODIFIED:20250418T161857Z
LOCATION:Farber Branch Library
URL:https://www.mexico-audrain.lib.mo.us/calendar-news/events/farber-messy
 -art-saturdays-3
END:VEVENT
BEGIN:VTIMEZONE
TZID:US/Central
X-LIC-LOCATION:US/Central
BEGIN:DAYLIGHT
DTSTART:20250309T030000
TZNAME:CDT
TZOFFSETFROM:-0600
TZOFFSETTO:-0500
END:DAYLIGHT
END:VTIMEZONE
END:VCALENDAR
