BEGIN:VCALENDAR
VERSION:2.0
PRODID:-//Plone.org//NONSGML plone.app.event//EN
X-WR-TIMEZONE:US/Central
BEGIN:VEVENT
SUMMARY:Color Flower Pots - Farber - Messy Art Saturdays
DTSTART;TZID=US/Central:20250614T093000
DTEND;TZID=US/Central:20250614T103000
DTSTAMP:20260419T165259Z
UID:a429719a3e714433b923520923236a68@saas_stack_varnish:6080
CONTACT:Brenda Gower\, 573-249-2012\, farberbranch@mexico-audrain.lib.mo.u
 s
CREATED:20250418T141033Z
DESCRIPTION:Pre-enrollment required.\nColor Flower Pots - pots will be pro
 vided
LAST-MODIFIED:20250418T161714Z
LOCATION:Farber Branch Library
URL:https://www.mexico-audrain.lib.mo.us/calendar-news/events/farber-messy
 -art-saturdays-1
END:VEVENT
BEGIN:VTIMEZONE
TZID:US/Central
X-LIC-LOCATION:US/Central
BEGIN:DAYLIGHT
DTSTART:20250309T030000
TZNAME:CDT
TZOFFSETFROM:-0600
TZOFFSETTO:-0500
END:DAYLIGHT
END:VTIMEZONE
END:VCALENDAR
