BEGIN:VCALENDAR
VERSION:2.0
PRODID:-//Plone.org//NONSGML plone.app.event//EN
X-WR-TIMEZONE:US/Central
BEGIN:VEVENT
SUMMARY:Farber Game Day
DTSTART;TZID=US/Central:20240318T140000
DTEND;TZID=US/Central:20240318T150000
DTSTAMP:20260420T215039Z
UID:d62967acf99543debec624ca6ed830ff@saas_stack_varnish:6080
CONTACT:Brenda Gower\, 573-249-2012\, farberbranch@mexico-audrain.lib.mo.u
 s
CREATED:20231212T191703Z
DESCRIPTION:Fun\, educational games for children.
LAST-MODIFIED:20240105T160847Z
LOCATION:Farber Branch Library
URL:https://www.mexico-audrain.lib.mo.us/calendar-news/events/farber-game-
 day/2024-03-18
END:VEVENT
BEGIN:VTIMEZONE
TZID:US/Central
X-LIC-LOCATION:US/Central
BEGIN:DAYLIGHT
DTSTART:20240310T030000
TZNAME:CDT
TZOFFSETFROM:-0600
TZOFFSETTO:-0500
END:DAYLIGHT
END:VTIMEZONE
END:VCALENDAR
