BEGIN:VCALENDAR
VERSION:2.0
PRODID:-//Plone.org//NONSGML plone.app.event//EN
X-WR-TIMEZONE:US/Central
BEGIN:VEVENT
SUMMARY:D&D Session Zero
DTSTART;TZID=US/Central:20260530T093000
DTEND;TZID=US/Central:20260530T113000
DTSTAMP:20260421T125304Z
UID:41bf44dfa62b4f4b845f30bbb7ff52b6@saas_stack_varnish:6080
CONTACT:Kasi Welborn\, 573-581-4939\, kasi.w@mexico-audrain.lib.mo.us
CREATED:20260416T145936Z
DESCRIPTION:Part of 2026 Teen Summer Reading Unearth a Story!
LAST-MODIFIED:20260416T150047Z
LOCATION:Mexico Library
URL:https://www.mexico-audrain.lib.mo.us/calendar-news/events/d-d-session-
 zero
END:VEVENT
BEGIN:VTIMEZONE
TZID:US/Central
X-LIC-LOCATION:US/Central
BEGIN:DAYLIGHT
DTSTART:20260308T030000
TZNAME:CDT
TZOFFSETFROM:-0600
TZOFFSETTO:-0500
END:DAYLIGHT
END:VTIMEZONE
END:VCALENDAR
