BEGIN:VCALENDAR
VERSION:2.0
PRODID:-//Plone.org//NONSGML plone.app.event//EN
X-WR-TIMEZONE:US/Central
BEGIN:VEVENT
SUMMARY:Corp of Engineers Visit
DTSTART;TZID=US/Central:20250611T160000
DTEND;TZID=US/Central:20250611T173000
DTSTAMP:20260424T174703Z
UID:cfbf788c2fa24781807e07c06bbd1cf1@saas_stack_varnish:6080
CONTACT:Kasi Welborn\, 573-581-4939\, kasi.w@mexico-audrain.lib.mo.us
CREATED:20250325T175703Z
DESCRIPTION:Part of our Teen Summer Reading Programming. For ages 12 and u
 p.
LAST-MODIFIED:20250325T181953Z
LOCATION:Mexico Library
URL:https://www.mexico-audrain.lib.mo.us/calendar-news/events/corp-of-engi
 neers-visit
END:VEVENT
BEGIN:VTIMEZONE
TZID:US/Central
X-LIC-LOCATION:US/Central
BEGIN:DAYLIGHT
DTSTART:20250309T030000
TZNAME:CDT
TZOFFSETFROM:-0600
TZOFFSETTO:-0500
END:DAYLIGHT
END:VTIMEZONE
END:VCALENDAR
