BEGIN:VCALENDAR
VERSION:2.0
PRODID:-//Plone.org//NONSGML plone.app.event//EN
X-WR-TIMEZONE:US/Central
BEGIN:VEVENT
SUMMARY:Chronicles of Yarnia
DTSTART;TZID=US/Central:20251111T100000
DTEND;TZID=US/Central:20251111T113000
DTSTAMP:20260419T202430Z
UID:66d6cf22f96b4964bdf85dcc472bec32@saas_stack_varnish:6080
CONTACT:Kasi\, 573-581-4939\, kasi.w@mexico-audrain.lib.mo.us
CREATED:20250814T135018Z
DESCRIPTION:Come craft with us!
LAST-MODIFIED:20250814T135202Z
LOCATION:Mexico Library
URL:https://www.mexico-audrain.lib.mo.us/calendar-news/events/chronicles-o
 f-yarnia/2025-11-11
END:VEVENT
BEGIN:VTIMEZONE
TZID:US/Central
X-LIC-LOCATION:US/Central
BEGIN:STANDARD
DTSTART:20251102T010000
TZNAME:CST
TZOFFSETFROM:-0500
TZOFFSETTO:-0600
END:STANDARD
END:VTIMEZONE
END:VCALENDAR
