BEGIN:VCALENDAR
VERSION:2.0
PRODID:-//Plone.org//NONSGML plone.app.event//EN
X-WR-TIMEZONE:US/Central
BEGIN:VEVENT
SUMMARY:Christmas Holiday
DTSTART;VALUE=DATE:20231226
DTEND;VALUE=DATE:20231227
DTSTAMP:20260422T073835Z
UID:a218d0af902c4e6a968cb1eb8bcdd4bc@saas_stack_varnish:6080
CREATED:20231101T160533Z
DESCRIPTION:Closed for the Christmas holiday.
LAST-MODIFIED:20231101T160544Z
LOCATION:All library locations
URL:https://www.mexico-audrain.lib.mo.us/calendar-news/events/christmas-ho
 liday
END:VEVENT
END:VCALENDAR
