BEGIN:VCALENDAR
VERSION:2.0
PRODID:-//Plone.org//NONSGML plone.app.event//EN
X-WR-TIMEZONE:US/Central
BEGIN:VEVENT
SUMMARY:Children's Movie at Mexico
DTSTART;TZID=US/Central:20240604T153000
DTEND;TZID=US/Central:20240604T163000
DTSTAMP:20260421T132016Z
UID:16e558f26cd54213b61a83f98e45ad34@saas_stack_varnish:6080
CONTACT:Aletha\, 573-581-4940
CREATED:20240604T215122Z
DESCRIPTION:If you love the Magic School Bus come see the movie and enjoy 
 some out-of-this-world adventures!
LAST-MODIFIED:20240604T215209Z
LOCATION:Mexico Library on the Lower Level
URL:https://www.mexico-audrain.lib.mo.us/calendar-news/events/childrens-mo
 vie-at-mexico
END:VEVENT
BEGIN:VTIMEZONE
TZID:US/Central
X-LIC-LOCATION:US/Central
BEGIN:DAYLIGHT
DTSTART:20240310T030000
TZNAME:CDT
TZOFFSETFROM:-0600
TZOFFSETTO:-0500
END:DAYLIGHT
END:VTIMEZONE
END:VCALENDAR
